BEGIN:VCALENDAR
PRODID:-//kirchenweb.ch gmbh//veranstaltungsausgabe v2.0//DE
VERSION:2.0
METHOD:PUBLISH
BEGIN:VEVENT
DTSTART:20270829T074500Z
DTEND:20270829T084500Z
LOCATION:Kirche\, \,
TRANSP:OPAQUE
SEQUENCE:0
UID:12506-veranstaltung@ref-meilen.ch
DTSTAMP:20240126T165534Z
DESCRIPTION:Gottesdienst\n\nKontakt: Daniel Eschmann\n\nWeitere Infos:
  https://www.ref-meilen.ch/veranstaltung/12506
SUMMARY:Ländeli Gottesdienst
PRIORITY:5
X-MICROSOFT-CDO-IMPORTANCE:1
CLASS:PUBLIC
END:VEVENT
END:VCALENDAR
