BEGIN:VCALENDAR
PRODID:-//kirchenweb.ch gmbh//veranstaltungsausgabe v2.0//DE
VERSION:2.0
METHOD:PUBLISH
BEGIN:VEVENT
DTSTART:20270516T074500Z
DTEND:20270516T084500Z
LOCATION:Kirche\, \,
TRANSP:OPAQUE
SEQUENCE:0
UID:12502-veranstaltung@ref-meilen.ch
DTSTAMP:20240126T165013Z
DESCRIPTION:Gottesdienst\n\nKontakt: Daniel Eschmann\n\nWeitere Infos:
  https://www.ref-meilen.ch/veranstaltung/12502
SUMMARY:Pfingst Gottesdienst
PRIORITY:5
X-MICROSOFT-CDO-IMPORTANCE:1
CLASS:PUBLIC
END:VEVENT
END:VCALENDAR
