BEGIN:VCALENDAR
PRODID:-//kirchenweb.ch gmbh//veranstaltungsausgabe v2.0//DE
VERSION:2.0
METHOD:PUBLISH
BEGIN:VEVENT
DTSTART:20270314T100000Z
DTEND:20270314T110000Z
LOCATION:Kirche\, Seestrasse 585\, 8706 Meilen
TRANSP:OPAQUE
SEQUENCE:0
UID:12497-veranstaltung@ref-meilen.ch
DTSTAMP:20240126T164135Z
DESCRIPTION:Gottesdienst\n\nKontakt: Daniel Eschmann\n\nWeitere Infos:
  https://www.ref-meilen.ch/veranstaltung/12497
SUMMARY:Ökumenischer Gottesdienst – Brot für alle
PRIORITY:5
X-MICROSOFT-CDO-IMPORTANCE:1
CLASS:PUBLIC
END:VEVENT
END:VCALENDAR
