BEGIN:VCALENDAR
PRODID:-//kirchenweb.ch gmbh//veranstaltungsausgabe v2.0//DE
VERSION:2.0
METHOD:PUBLISH
BEGIN:VEVENT
DTSTART:20270307T084500Z
DTEND:20270307T094500Z
LOCATION:Kirche\, Seestrasse 585\, 8706 Meilen
TRANSP:OPAQUE
SEQUENCE:0
UID:12492-veranstaltung@ref-meilen.ch
DTSTAMP:20240126T161338Z
DESCRIPTION:Kontakt: Daniel Eschmann\n\nWeitere Infos:
  https://www.ref-meilen.ch/veranstaltung/12492
SUMMARY:Gottesdienst am Kantaten-Wochenende
PRIORITY:5
X-MICROSOFT-CDO-IMPORTANCE:1
CLASS:PUBLIC
END:VEVENT
END:VCALENDAR
