BEGIN:VCALENDAR
PRODID:-//kirchenweb.ch gmbh//veranstaltungsausgabe v2.0//DE
VERSION:2.0
METHOD:PUBLISH
BEGIN:VEVENT
DTSTART:20270321T084500Z
DTEND:20270321T094500Z
LOCATION:Kirche\, Seestrasse 585\, 8706 Meilen
TRANSP:OPAQUE
SEQUENCE:0
UID:12488-veranstaltung@ref-meilen.ch
DTSTAMP:20240126T161439Z
DESCRIPTION:Mit den 3. Klass-Unti-Kindern\n\nDazu haben sie sich in den
  Untistunden vorbereitet. Die Guppen aus Feld- und Obermeilen sowie vom
  Schulhaus Allmend werden mit ihrem Beitrag den Gottesdienst bereichern
  und selbst ein erstes Mal Abendmahl feiern. Unter dem Titel «MitleidEn
  – LiebeN» blicken wir auf die Geschichte aus Johannes 12\, 1–8. \n
 \nWas genau geschah an dem Abend\, sechs Tage vor dem Passahfest\, als
  Jesus mit seinen Jüngern bei Lazarus\, Maria und Marta zu Besuch war?
  Wie wirkte die Handlung Marias\, als sie mit kostbarem Öl Jesus die
  Füsse salbte\, auf die Jünger und was bedeutete es für Jesus? 
 \nMartina Graf\, Katechetin\n\n\nKontakt: Daniel Eschmann\n\nWeitere
  Infos: https://www.ref-meilen.ch/veranstaltung/12488
SUMMARY:Gottesdienst am Palmsonntag
PRIORITY:5
X-MICROSOFT-CDO-IMPORTANCE:1
CLASS:PUBLIC
END:VEVENT
END:VCALENDAR
