BEGIN:VCALENDAR
PRODID:-//kirchenweb.ch gmbh//veranstaltungsausgabe v2.0//DE
VERSION:2.0
METHOD:PUBLISH
BEGIN:VEVENT
DTSTART:20270327T200000Z
DTEND:20270327T213000Z
LOCATION:Kirche\, Seestrasse 585\, 8706 Meilen
TRANSP:OPAQUE
SEQUENCE:0
UID:12482-veranstaltung@ref-meilen.ch
DTSTAMP:20240126T161620Z
DESCRIPTION:Die reformierte und die römisch-katholische Kirche Meilen
  werden in der Osternacht auf dem Dorfplatz in einer feierlichen Zeremonie
  erneut gemeinsam ihre Osterkerzen am Osterfeuer entzünden. \n\nWie
  letztes Jahr wird ein Grusswort unseres Gemeindepräsidenten Christoph
  Hiller die Feier begleiten. Das Osterlicht wird anschliessend in beide
  Kirchen gebracht\, wo nach der je eigenen Gottesdiensttradition die frohe
  Osterbotschaft vom Sieg des Lebens über den Tod verkündet und
  gefeiert wird. \n\nAnschliessend sind alle herzlich zum Apéro\,
  Eiertütschen und Colomba-Essen im Martinszentrum der katholischen
  Pfarrei eingeladen.\nPfr. Marc Stillhard\n\nAblauf:\n20.30 Uhr: ökum.
  Entzünden der Osterkerzen auf dem Gemeindeplatz\, Kiesbereich\n21.00
  Uhr: Osternacht-Gottesdienste mit Pfr. Daniel Eschmann\, Pfr. Marc
  Stillhart\, Pfr. Erich Wyss\, reformierten Kirche \n22.30 Uhr: ökum.
  Apéro im kath. Martinszentrum\, Stelzenstr. 27\n\nKontakt: Daniel
  Eschmann\n\nWeitere Infos: https://www.ref-meilen.ch/veranstaltung/12482
SUMMARY:Osternacht
PRIORITY:5
X-MICROSOFT-CDO-IMPORTANCE:1
CLASS:PUBLIC
END:VEVENT
END:VCALENDAR
