BEGIN:VCALENDAR
PRODID:-//kirchenweb.ch gmbh//veranstaltungsausgabe v2.0//DE
VERSION:2.0
METHOD:PUBLISH
BEGIN:VEVENT
DTSTART:20270328T074500Z
DTEND:20270328T084500Z
LOCATION:Kirche\, Seestrasse 585\, 8706 Meilen
TRANSP:OPAQUE
SEQUENCE:0
UID:12480-veranstaltung@ref-meilen.ch
DTSTAMP:20240126T161509Z
DESCRIPTION:Im Anschluss an den Gottesdienst: Eiertütschen und
  Colomba-Essen.\n\nKontakt: Daniel Eschmann\n\nWeitere Infos:
  https://www.ref-meilen.ch/veranstaltung/12480
SUMMARY:Ostergottesdienst
PRIORITY:5
X-MICROSOFT-CDO-IMPORTANCE:1
CLASS:PUBLIC
END:VEVENT
END:VCALENDAR
