BEGIN:VCALENDAR
PRODID:-//kirchenweb.ch gmbh//veranstaltungsausgabe v2.0//DE
VERSION:2.0
METHOD:PUBLISH
BEGIN:VEVENT
DTSTART:20231116T124500Z
DTEND:20231116T131500Z
LOCATION:Friedhof Meilen\, \,
TRANSP:OPAQUE
SEQUENCE:0
UID:12193-veranstaltung@ref-meilen.ch
DTSTAMP:20231114T083735Z
DESCRIPTION:Kontakt: monika.rutishauser@ref-meilen.ch\n\nWeitere Infos:
  https://www.ref-meilen.ch/veranstaltung/12193
SUMMARY:Beisetzung Marta Kubli-Schmid
PRIORITY:5
X-MICROSOFT-CDO-IMPORTANCE:1
CLASS:PUBLIC
END:VEVENT
END:VCALENDAR
