BEGIN:VCALENDAR
PRODID:-//kirchenweb.ch gmbh//veranstaltungsausgabe v2.0//DE
VERSION:2.0
METHOD:PUBLISH
BEGIN:VEVENT
DTSTART:20231117T140000Z
DTEND:20231117T143000Z
LOCATION:Friedhof Meilen ZH\, \,
TRANSP:OPAQUE
SEQUENCE:0
UID:12188-veranstaltung@ref-meilen.ch
DTSTAMP:20231113T083423Z
DESCRIPTION:Kontakt: monika.rutishauser@ref-meilen.ch\n\nWeitere Infos:
  https://www.ref-meilen.ch/veranstaltung/12188
SUMMARY:Beisetzung Adelheid Schneller-Gunzinger
PRIORITY:5
X-MICROSOFT-CDO-IMPORTANCE:1
CLASS:PUBLIC
END:VEVENT
END:VCALENDAR
