BEGIN:VCALENDAR
PRODID:-//kirchenweb.ch gmbh//veranstaltungsausgabe v2.0//DE
VERSION:2.0
METHOD:PUBLISH
BEGIN:VEVENT
DTSTART:20231115T133000Z
DTEND:20231115T153000Z
LOCATION:Jürg-Wille-Saal (Lift vorhanden)\, Kirchgasse 2\, 8706 Meilen
TRANSP:OPAQUE
SEQUENCE:0
UID:11712-veranstaltung@ref-meilen.ch
DTSTAMP:20230815T093005Z
DESCRIPTION:«Die alti Klicke»\nNach vielen Jahren gibt es ein
  Klassentreffen…\, ein humorvoller\, gemütlicher Nachmittag mit der
  Seniorenbühne. Nähere Angaben zum Inhalt folgen. \n\nEine Veranstaltung
  der Frauenvereine Meilen.\n\n\nKontakt: heike.kirschke@ref-meilen.ch\n
 \nWeitere Infos: https://www.ref-meilen.ch/veranstaltung/11712
SUMMARY:Senioren-Nachmittag
PRIORITY:5
X-MICROSOFT-CDO-IMPORTANCE:1
CLASS:PUBLIC
END:VEVENT
END:VCALENDAR
