BEGIN:VCALENDAR
PRODID:-//kirchenweb.ch gmbh//veranstaltungsausgabe v2.0//DE
VERSION:2.0
METHOD:PUBLISH
BEGIN:VEVENT
DTSTART:20231110T164500Z
DTEND:20231110T191500Z
LOCATION:Bau\, Kirchgasse 9\, 8706 Meilen
TRANSP:OPAQUE
SEQUENCE:0
UID:11690-veranstaltung@ref-meilen.ch
DTSTAMP:20230810T162149Z
DESCRIPTION:Kontakt: flurina.bezzola@ref-meilen.ch\n\nWeitere Infos:
  https://www.ref-meilen.ch/veranstaltung/11690
SUMMARY:Konfmodul\, Actionbound erstellen
PRIORITY:5
X-MICROSOFT-CDO-IMPORTANCE:1
CLASS:PUBLIC
END:VEVENT
END:VCALENDAR
