BEGIN:VCALENDAR
PRODID:-//kirchenweb.ch gmbh//veranstaltungsausgabe v2.0//DE
VERSION:2.0
METHOD:PUBLISH
BEGIN:VEVENT
DTSTART:20231112T121500Z
DTEND:20231112T151500Z
LOCATION:Chilesaal\, Kirchgasse 2\, 8706 Meilen
TRANSP:OPAQUE
SEQUENCE:0
UID:11343-veranstaltung@ref-meilen.ch
DTSTAMP:20230628T100942Z
DESCRIPTION:Kontakt: Flurina Bezzola\n\nWeitere Infos:
  https://www.ref-meilen.ch/veranstaltung/11343
SUMMARY:JuKi 2 Kerzen
PRIORITY:5
X-MICROSOFT-CDO-IMPORTANCE:1
CLASS:PUBLIC
END:VEVENT
END:VCALENDAR
