BEGIN:VCALENDAR
PRODID:-//kirchenweb.ch gmbh//veranstaltungsausgabe v2.0//DE
VERSION:2.0
METHOD:PUBLISH
BEGIN:VEVENT
DTSTART:20231115T083000Z
DTEND:20231115T091500Z
LOCATION:Chilesaal\, Kirchgasse 2\, 8706 Meilen
TRANSP:OPAQUE
SEQUENCE:0
UID:10791-veranstaltung@ref-meilen.ch
DTSTAMP:20230918T112549Z
DESCRIPTION:Wie ging doch dieses Lied schon wieder?\n\nELKI weiss es
  bestimmt noch! ELKI ist ein grosser Stoffelch. Er animiert die Kinder und
  ihre Eltern/Grosseltern zum gemeinsamen Singen und Bewegen.\n\nIm
  ELKI-Singen lernen Eltern/Grosseltern wieder altbekannte\, aber
  vergessene Finger-\, Abzähl- und andere Verse\, Tischlieder und
  gesungene Abendgebete\, Bewegungsspiele\, Jahreszeiten- und Tanzlieder\,
  alte und neue Kinderlieder. Die Erwachsenen singen\, spielen\, Tanzen
  zusammen mit ihren Kindern und für ihre Kinder.\n\nIn jeder Lektion gibt
  es einen kleinen Gedankenaustausch unter den Erwachsenen zu ethischen\,
  religiösen oder erzieherischen Fragen. In dieser kurzen Zeit spielen und
  singen die Kinder alleine mit der Singleiterin.\n\nZusammen mit dem
  Elternteil trägt das Kind einen reichen Schatz an Erfahrungen nach Hause
  (für die Eltern auf Papier gebannt)\, der dort bei Gelegenheit wieder
  hervorgeholt werden kann.\n\nKontakt: Barbara Meldau\n\n\nWeitere Infos:
  https://www.ref-meilen.ch/veranstaltung/10791
SUMMARY:ElKi Singen
PRIORITY:5
X-MICROSOFT-CDO-IMPORTANCE:1
CLASS:PUBLIC
END:VEVENT
END:VCALENDAR
