BEGIN:VCALENDAR
PRODID:-//kirchenweb.ch gmbh//veranstaltungsausgabe v2.0//DE
VERSION:2.0
METHOD:PUBLISH
BEGIN:VEVENT
DTSTART:20231111T083000Z
DTEND:20231111T130000Z
LOCATION:Chilesaal\, Kirchgasse 2\, 8706 Meilen
TRANSP:OPAQUE
SEQUENCE:0
UID:10750-veranstaltung@ref-meilen.ch
DTSTAMP:20231108T071351Z
DESCRIPTION:Kontakt: Martina Graf\n\nWeitere Infos:
  https://www.ref-meilen.ch/veranstaltung/10750
SUMMARY:Club 4 Mittagessen
PRIORITY:5
X-MICROSOFT-CDO-IMPORTANCE:1
CLASS:PUBLIC
END:VEVENT
END:VCALENDAR
