BEGIN:VCALENDAR
PRODID:-//kirchenweb.ch gmbh//veranstaltungsausgabe v2.0//DE
VERSION:2.0
METHOD:PUBLISH
BEGIN:VEVENT
DTSTART:20221207T131500Z
DTEND:20221207T141500Z
LOCATION:Kirche\, Seestrasse 585\, 8706 Meilen
TRANSP:OPAQUE
SEQUENCE:0
UID:10469-veranstaltung@ref-meilen.ch
DTSTAMP:20221206T091244Z
DESCRIPTION:Kontakt: Pfr. Marc Stillhard\n\nWeitere Infos:
  https://www.ref-meilen.ch/veranstaltung/10469
SUMMARY:Abdankung Irene Ritz-Anderegg
PRIORITY:5
X-MICROSOFT-CDO-IMPORTANCE:1
CLASS:PUBLIC
END:VEVENT
END:VCALENDAR
