BEGIN:VCALENDAR
PRODID:-//kirchenweb.ch gmbh//veranstaltungsausgabe v2.0//DE
VERSION:2.0
METHOD:PUBLISH
BEGIN:VEVENT
DTSTART:20231110T131500Z
DTEND:20231110T151500Z
LOCATION:KiZ Leue\, Kirchgasse 2\, 8706 Meilen
TRANSP:OPAQUE
SEQUENCE:0
UID:10467-veranstaltung@ref-meilen.ch
DTSTAMP:20230721T094238Z
DESCRIPTION:Eine liebevolle Geschichte über ein älteres Ehepaar auf der
  Suche nach dem Glück:\n\nAlice und ihr Mann Peter sind frisch
  pensioniert und freuen sich auf ihren wohlverdienten Ruhestand. Doch auf
  einer Kreuzfahrt durchs Mittelmeer offenbaren sich die lange aufgestauten
  Eheprobleme. Auf getrennten Wegen finden sie schliesslich nicht nur zu
  sich selbst\, sondern auch zu einer neuen Art\, ihre goldenen Jahre zu
  verbringen.\n\nKontakt: Heike Kirschke\n\nWeitere Infos:
  https://www.ref-meilen.ch/veranstaltung/10467
SUMMARY:Film-Treff
PRIORITY:5
X-MICROSOFT-CDO-IMPORTANCE:1
CLASS:PUBLIC
END:VEVENT
END:VCALENDAR
