BEGIN:VCALENDAR
PRODID:-//kirchenweb.ch gmbh//veranstaltungsausgabe v2.0//DE
VERSION:2.0
METHOD:PUBLISH
BEGIN:VEVENT
DTSTART:20221130T131500Z
DTEND:20221130T141500Z
LOCATION:Kirche\, Seestrasse 585\, 8706 Meilen
TRANSP:OPAQUE
SEQUENCE:0
UID:10463-veranstaltung@ref-meilen.ch
DTSTAMP:20221123T065342Z
DESCRIPTION:Kontakt: Pfarrer Mathias Rissi\n\nWeitere Infos:
  https://www.ref-meilen.ch/veranstaltung/10463
SUMMARY:Abdankung Margaretha Gäumann-Gerber
PRIORITY:5
X-MICROSOFT-CDO-IMPORTANCE:1
CLASS:PUBLIC
END:VEVENT
END:VCALENDAR
