BEGIN:VCALENDAR
PRODID:-//kirchenweb.ch gmbh//veranstaltungsausgabe v2.0//DE
VERSION:2.0
METHOD:PUBLISH
BEGIN:VEVENT
DTSTART:20231106T080000Z
DTEND:20231106T100000Z
LOCATION:Bau\, Kirchgasse 9\, 8706 Meilen
TRANSP:OPAQUE
SEQUENCE:0
UID:10451-veranstaltung@ref-meilen.ch
DTSTAMP:20221117T090055Z
DESCRIPTION:Die Gelegenheit\, um Kontakte zu finden und die deutsche
  Sprache anzuwenden und zu üben\, bei Kaffee\, Tee und Gebäck (Beitrag
  Fr. 1.--).\n\nWir freuen uns und laden alle Interessierten herzlich ein.
 \n\nDas Café Grüezi International-Team: \nMarianne Trapletti\, Barbara
  Pfenninger\, Rosemarie Ayer\, Theo Fries\, Silvia Haselbach\, Verena
  Bösch und Esther Biefer.\n\nKontakt:\nMarianne Trapletti\, 079 200 54 46
 \n\n\n\n\nKontakt: nicole.moser@ref-meilen.ch\n\nWeitere Infos:
  https://www.ref-meilen.ch/veranstaltung/10451
SUMMARY:Café Grüezi International
PRIORITY:5
X-MICROSOFT-CDO-IMPORTANCE:1
CLASS:PUBLIC
END:VEVENT
END:VCALENDAR
