BEGIN:VCALENDAR
PRODID:-//kirchenweb.ch gmbh//veranstaltungsausgabe v2.0//DE
VERSION:2.0
METHOD:PUBLISH
BEGIN:VEVENT
DTSTART:20221201T131500Z
DTEND:20221201T141500Z
LOCATION:Kirche\, Seestrasse 585\, 8706 Meilen
TRANSP:OPAQUE
SEQUENCE:0
UID:10387-veranstaltung@ref-meilen.ch
DTSTAMP:20221201T100139Z
DESCRIPTION:Kontakt: Pfr. Erich Wyss\n\nWeitere Infos:
  https://www.ref-meilen.ch/veranstaltung/10387
SUMMARY:Abdankung Alice Ida Boss-Gubler
PRIORITY:5
X-MICROSOFT-CDO-IMPORTANCE:1
CLASS:PUBLIC
END:VEVENT
END:VCALENDAR
