BEGIN:VCALENDAR
PRODID:-//kirchenweb.ch gmbh//veranstaltungsausgabe v2.0//DE
VERSION:2.0
METHOD:PUBLISH
BEGIN:VEVENT
DTSTART:20221207T133000Z
DTEND:20221207T153000Z
LOCATION:Martinszentrum\, Stelzenstrasse 27\, 8706 Meilen
TRANSP:OPAQUE
SEQUENCE:0
UID:10294-veranstaltung@ref-meilen.ch
DTSTAMP:20241029T072622Z
DESCRIPTION:Stimmen wir uns in gemütlicher\, vorweihnächtlicher
  Atmosphäre auf die Feiertage ein. Mit alten\, bekannten Schweizer
  Weihnachtsliedern\, auch zum Mitsingen\, gestalten der Kantor der
  reformierten Kirche\, Ernst Buscagne – mit einem Überraschungsgast
  sowie Pfarrer Erich Wyss und Sozialdiakonin Heike Kirschke diesen
  Adventlichen Nachmittag.\n\nLassen wir uns verzaubern und geniessen wir
  das Geschenk unserer Gemeinschaft!\n«Stille Nacht» und «Oh du
  Fröhliche» werden nicht fehlen… Ob der Samichlaus auch noch Zeit hat
  und eine Geschichte mitbringt?!\nHeike Kirschke\, Sozialdiakonin
 \n...........................................\nUnentgeltlicher Fahrdienst
  bei Gehbehinderung durchgeführt von Senioren für Senioren Meilen (SfS).
  Vermittlung bitte bis spätestens 6. Dezember\, 9 Uhr unter Tel. 044 793
  15 51 (Telefonbeantworter).\n\nKontakt: Heike Kirschke\n\nWeitere Infos:
  https://www.ref-meilen.ch/veranstaltung/10294
SUMMARY:Senioren-Nachmittag
PRIORITY:5
X-MICROSOFT-CDO-IMPORTANCE:1
CLASS:PUBLIC
END:VEVENT
END:VCALENDAR
