BEGIN:VCALENDAR
PRODID:-//kirchenweb.ch gmbh//veranstaltungsausgabe v2.0//DE
VERSION:2.0
METHOD:PUBLISH
BEGIN:VEVENT
DTSTART:20231112T094500Z
DTEND:20231112T103000Z
LOCATION:Tertianum\, \,
TRANSP:OPAQUE
SEQUENCE:0
UID:10229-veranstaltung@ref-meilen.ch
DTSTAMP:20230706T100612Z
DESCRIPTION:Kontakt: Erich Wyss\n\nWeitere Infos:
  https://www.ref-meilen.ch/veranstaltung/10229
SUMMARY:Kurzgottesdienst Parkresidenz
PRIORITY:5
X-MICROSOFT-CDO-IMPORTANCE:1
CLASS:PUBLIC
END:VEVENT
END:VCALENDAR
